BEGIN:VCALENDAR
VERSION:2.0
PRODID:-//Mill Creek Golf Club - ECPv6.15.18//NONSGML v1.0//EN
CALSCALE:GREGORIAN
METHOD:PUBLISH
X-WR-CALNAME:Mill Creek Golf Club
X-ORIGINAL-URL:https://www.millcreekgolf.com
X-WR-CALDESC:Events for Mill Creek Golf Club
REFRESH-INTERVAL;VALUE=DURATION:PT1H
X-Robots-Tag:noindex
X-PUBLISHED-TTL:PT1H
BEGIN:VTIMEZONE
TZID:America/New_York
BEGIN:DAYLIGHT
TZOFFSETFROM:-0500
TZOFFSETTO:-0400
TZNAME:EDT
DTSTART:20240310T070000
END:DAYLIGHT
BEGIN:STANDARD
TZOFFSETFROM:-0400
TZOFFSETTO:-0500
TZNAME:EST
DTSTART:20241103T060000
END:STANDARD
BEGIN:DAYLIGHT
TZOFFSETFROM:-0500
TZOFFSETTO:-0400
TZNAME:EDT
DTSTART:20250309T070000
END:DAYLIGHT
BEGIN:STANDARD
TZOFFSETFROM:-0400
TZOFFSETTO:-0500
TZNAME:EST
DTSTART:20251102T060000
END:STANDARD
BEGIN:DAYLIGHT
TZOFFSETFROM:-0500
TZOFFSETTO:-0400
TZNAME:EDT
DTSTART:20260308T070000
END:DAYLIGHT
BEGIN:STANDARD
TZOFFSETFROM:-0400
TZOFFSETTO:-0500
TZNAME:EST
DTSTART:20261101T060000
END:STANDARD
END:VTIMEZONE
BEGIN:VEVENT
DTSTART;TZID=America/New_York:20250824T130000
DTEND;TZID=America/New_York:20250824T203000
DTSTAMP:20260422T070221
CREATED:20250716T194518Z
LAST-MODIFIED:20250716T194518Z
UID:10000017-1756040400-1756067400@www.millcreekgolf.com
SUMMARY:The Edge 16U
DESCRIPTION:
URL:https://www.millcreekgolf.com/event/the-edge-16u/
END:VEVENT
BEGIN:VEVENT
DTSTART;TZID=America/New_York:20250824T070000
DTEND;TZID=America/New_York:20250824T070000
DTSTAMP:20260422T070221
CREATED:20250716T192901Z
LAST-MODIFIED:20250716T192901Z
UID:10000016-1756018800-1756018800@www.millcreekgolf.com
SUMMARY:Club Championship
DESCRIPTION:
URL:https://www.millcreekgolf.com/event/club-championship-2/
END:VEVENT
BEGIN:VEVENT
DTSTART;TZID=America/New_York:20250823T070000
DTEND;TZID=America/New_York:20250823T070000
DTSTAMP:20260422T070221
CREATED:20250716T192808Z
LAST-MODIFIED:20250716T192808Z
UID:10000015-1755932400-1755932400@www.millcreekgolf.com
SUMMARY:Club Championship
DESCRIPTION:
URL:https://www.millcreekgolf.com/event/club-championship/
END:VEVENT
BEGIN:VEVENT
DTSTART;TZID=America/New_York:20250818T100000
DTEND;TZID=America/New_York:20250818T173000
DTSTAMP:20260422T070221
CREATED:20250716T192627Z
LAST-MODIFIED:20250716T192627Z
UID:10000014-1755511200-1755538200@www.millcreekgolf.com
SUMMARY:RJA 14UAA Tournament
DESCRIPTION:
URL:https://www.millcreekgolf.com/event/rja-14uaa-tournament/
END:VEVENT
BEGIN:VEVENT
DTSTART;TZID=America/New_York:20250817T130000
DTEND;TZID=America/New_York:20250817T190000
DTSTAMP:20260422T070221
CREATED:20250716T192553Z
LAST-MODIFIED:20250716T192553Z
UID:10000013-1755435600-1755457200@www.millcreekgolf.com
SUMMARY:Rochester JR. Amerks 16U Girls Hockey Golf Tournament
DESCRIPTION:
URL:https://www.millcreekgolf.com/event/rochester-jr-amerks-16u-girls-hockey-golf-tournament/
END:VEVENT
BEGIN:VEVENT
DTSTART;TZID=America/New_York:20250816T103000
DTEND;TZID=America/New_York:20250816T193000
DTSTAMP:20260422T070221
CREATED:20250716T192519Z
LAST-MODIFIED:20250716T192519Z
UID:10000012-1755340200-1755372600@www.millcreekgolf.com
SUMMARY:Laborers Local 435 Golf Tournament
DESCRIPTION:
URL:https://www.millcreekgolf.com/event/laborers-local-435-golf-tournament/
END:VEVENT
BEGIN:VEVENT
DTSTART;TZID=America/New_York:20250815T120000
DTEND;TZID=America/New_York:20250815T193000
DTSTAMP:20260422T070221
CREATED:20250716T192105Z
LAST-MODIFIED:20250716T192105Z
UID:10000011-1755259200-1755286200@www.millcreekgolf.com
SUMMARY:Carestream Golf Tournament
DESCRIPTION:
URL:https://www.millcreekgolf.com/event/carestream-golf-tournament/
END:VEVENT
BEGIN:VEVENT
DTSTART;TZID=America/New_York:20250810T130000
DTEND;TZID=America/New_York:20250810T190000
DTSTAMP:20260422T070221
CREATED:20250716T192031Z
LAST-MODIFIED:20250716T192031Z
UID:10000010-1754830800-1754852400@www.millcreekgolf.com
SUMMARY:ROCCO 14 UAAA
DESCRIPTION:
URL:https://www.millcreekgolf.com/event/rocco-14-uaaa/
END:VEVENT
BEGIN:VEVENT
DTSTART;TZID=America/New_York:20250809T080000
DTEND;TZID=America/New_York:20250809T210000
DTSTAMP:20260422T070221
CREATED:20250716T191953Z
LAST-MODIFIED:20250716T191953Z
UID:10000009-1754726400-1754773200@www.millcreekgolf.com
SUMMARY:Gi Gi's
DESCRIPTION:
URL:https://www.millcreekgolf.com/event/gi-gis/
END:VEVENT
BEGIN:VEVENT
DTSTART;TZID=America/New_York:20250807T080000
DTEND;TZID=America/New_York:20250807T153000
DTSTAMP:20260422T070221
CREATED:20250716T191828Z
LAST-MODIFIED:20250716T191828Z
UID:10000008-1754553600-1754580600@www.millcreekgolf.com
SUMMARY:Commercial Pipe & Milwaukee Valve Tournament 2025
DESCRIPTION:
URL:https://www.millcreekgolf.com/event/commercial-pipe-milwaukee-valve-tournament-2025/
END:VEVENT
BEGIN:VEVENT
DTSTART;TZID=America/New_York:20250803T130000
DTEND;TZID=America/New_York:20250803T190000
DTSTAMP:20260422T070221
CREATED:20250716T191643Z
LAST-MODIFIED:20250716T191643Z
UID:10000007-1754226000-1754247600@www.millcreekgolf.com
SUMMARY:Rochester JR. Amerks 16UAA
DESCRIPTION:
URL:https://www.millcreekgolf.com/event/rochester-jr-amerks-16uaa/
END:VEVENT
BEGIN:VEVENT
DTSTART;TZID=America/New_York:20250802T090000
DTEND;TZID=America/New_York:20250802T090000
DTSTAMP:20260422T070221
CREATED:20250716T191544Z
LAST-MODIFIED:20250716T191544Z
UID:10000006-1754125200-1754125200@www.millcreekgolf.com
SUMMARY:Member - Guest
DESCRIPTION:
URL:https://www.millcreekgolf.com/event/member-guest/
END:VEVENT
BEGIN:VEVENT
DTSTART;TZID=America/New_York:20250730T100000
DTEND;TZID=America/New_York:20250730T163000
DTSTAMP:20260422T070221
CREATED:20250716T191430Z
LAST-MODIFIED:20250716T191430Z
UID:10000005-1753869600-1753893000@www.millcreekgolf.com
SUMMARY:IFF Rochester Golf Tournament
DESCRIPTION:
URL:https://www.millcreekgolf.com/event/iff-rochester-golf-tournament/
END:VEVENT
BEGIN:VEVENT
DTSTART;TZID=America/New_York:20250727T120000
DTEND;TZID=America/New_York:20250727T193000
DTSTAMP:20260422T070221
CREATED:20250716T191259Z
LAST-MODIFIED:20250716T191259Z
UID:10000004-1753617600-1753644600@www.millcreekgolf.com
SUMMARY:Ridge's Rescue Tournament
DESCRIPTION:
URL:https://www.millcreekgolf.com/event/ridges-rescue-tournament/
END:VEVENT
BEGIN:VEVENT
DTSTART;TZID=America/New_York:20250720T120000
DTEND;TZID=America/New_York:20250720T200000
DTSTAMP:20260422T070221
CREATED:20250716T191030Z
LAST-MODIFIED:20250716T191030Z
UID:10000003-1753012800-1753041600@www.millcreekgolf.com
SUMMARY:Riga Republican Golf Tournament
DESCRIPTION:
URL:https://www.millcreekgolf.com/event/riga-republican-golf-tournament/
END:VEVENT
BEGIN:VEVENT
DTSTART;TZID=America/New_York:20250719T120000
DTEND;TZID=America/New_York:20250719T210000
DTSTAMP:20260422T070221
CREATED:20250716T190905Z
LAST-MODIFIED:20250716T190905Z
UID:10000002-1752926400-1752958800@www.millcreekgolf.com
SUMMARY:Kory Schramm Golf Tournament
DESCRIPTION:
URL:https://www.millcreekgolf.com/event/kory-schramm-golf-tournament/
END:VEVENT
BEGIN:VEVENT
DTSTART;TZID=America/New_York:20250718T160000
DTEND;TZID=America/New_York:20250718T210000
DTSTAMP:20260422T070221
CREATED:20250716T190745Z
LAST-MODIFIED:20250716T190745Z
UID:10000001-1752854400-1752872400@www.millcreekgolf.com
SUMMARY:Members 9 & Dine
DESCRIPTION:
URL:https://www.millcreekgolf.com/event/members-9-dine/
END:VEVENT
END:VCALENDAR