BEGIN:VCALENDAR
VERSION:2.0
PRODID:-//Mill Creek Golf Club - ECPv6.15.18//NONSGML v1.0//EN
CALSCALE:GREGORIAN
METHOD:PUBLISH
X-ORIGINAL-URL:https://www.millcreekgolf.com
X-WR-CALDESC:Events for Mill Creek Golf Club
REFRESH-INTERVAL;VALUE=DURATION:PT1H
X-Robots-Tag:noindex
X-PUBLISHED-TTL:PT1H
BEGIN:VTIMEZONE
TZID:America/New_York
BEGIN:DAYLIGHT
TZOFFSETFROM:-0500
TZOFFSETTO:-0400
TZNAME:EDT
DTSTART:20240310T070000
END:DAYLIGHT
BEGIN:STANDARD
TZOFFSETFROM:-0400
TZOFFSETTO:-0500
TZNAME:EST
DTSTART:20241103T060000
END:STANDARD
BEGIN:DAYLIGHT
TZOFFSETFROM:-0500
TZOFFSETTO:-0400
TZNAME:EDT
DTSTART:20250309T070000
END:DAYLIGHT
BEGIN:STANDARD
TZOFFSETFROM:-0400
TZOFFSETTO:-0500
TZNAME:EST
DTSTART:20251102T060000
END:STANDARD
BEGIN:DAYLIGHT
TZOFFSETFROM:-0500
TZOFFSETTO:-0400
TZNAME:EDT
DTSTART:20260308T070000
END:DAYLIGHT
BEGIN:STANDARD
TZOFFSETFROM:-0400
TZOFFSETTO:-0500
TZNAME:EST
DTSTART:20261101T060000
END:STANDARD
END:VTIMEZONE
BEGIN:VEVENT
DTSTART;TZID=America/New_York:20250921T120000
DTEND;TZID=America/New_York:20250921T203000
DTSTAMP:20260422T155051
CREATED:20250716T195042Z
LAST-MODIFIED:20250716T195042Z
UID:10000025-1758456000-1758486600@www.millcreekgolf.com
SUMMARY:Rochester Aces 9U Rice
DESCRIPTION:
URL:https://www.millcreekgolf.com/event/rochester-aces-9u-rice/
END:VEVENT
BEGIN:VEVENT
DTSTART;TZID=America/New_York:20250926T130000
DTEND;TZID=America/New_York:20250926T180000
DTSTAMP:20260422T155051
CREATED:20250716T195113Z
LAST-MODIFIED:20250716T195113Z
UID:10000026-1758891600-1758909600@www.millcreekgolf.com
SUMMARY:Members Clam Bake
DESCRIPTION:
URL:https://www.millcreekgolf.com/event/members-clam-bake/
END:VEVENT
BEGIN:VEVENT
DTSTART;TZID=America/New_York:20250927T123000
DTEND;TZID=America/New_York:20250927T183000
DTSTAMP:20260422T155051
CREATED:20250716T195143Z
LAST-MODIFIED:20250716T195143Z
UID:10000027-1758976200-1758997800@www.millcreekgolf.com
SUMMARY:RIT Lacross Tournament
DESCRIPTION:
URL:https://www.millcreekgolf.com/event/rit-lacross-tournament/
END:VEVENT
BEGIN:VEVENT
DTSTART;TZID=America/New_York:20250930T080000
DTEND;TZID=America/New_York:20250930T080000
DTSTAMP:20260422T155051
CREATED:20250716T195220Z
LAST-MODIFIED:20250716T195220Z
UID:10000028-1759219200-1759219200@www.millcreekgolf.com
SUMMARY:Fairway Aeration (Front 9)
DESCRIPTION:
URL:https://www.millcreekgolf.com/event/fairway-aeration-front-9/
END:VEVENT
BEGIN:VEVENT
DTSTART;TZID=America/New_York:20251018T120000
DTEND;TZID=America/New_York:20251018T120000
DTSTAMP:20260422T155051
CREATED:20250716T195251Z
LAST-MODIFIED:20250716T195251Z
UID:10000029-1760788800-1760788800@www.millcreekgolf.com
SUMMARY:CCW Tournament
DESCRIPTION:
URL:https://www.millcreekgolf.com/event/ccw-tournament/
END:VEVENT
END:VCALENDAR